BEGIN:VCALENDAR
VERSION:2.0
PRODID:-//Schützenheim Dünnwald - ECPv6.15.20//NONSGML v1.0//EN
CALSCALE:GREGORIAN
METHOD:PUBLISH
X-WR-CALNAME:Schützenheim Dünnwald
X-ORIGINAL-URL:https://schuetzenheim-duennwald.de
X-WR-CALDESC:Veranstaltungen für Schützenheim Dünnwald
REFRESH-INTERVAL;VALUE=DURATION:PT1H
X-Robots-Tag:noindex
X-PUBLISHED-TTL:PT1H
BEGIN:VTIMEZONE
TZID:Europe/Berlin
BEGIN:DAYLIGHT
TZOFFSETFROM:+0100
TZOFFSETTO:+0200
TZNAME:CEST
DTSTART:20250330T010000
END:DAYLIGHT
BEGIN:STANDARD
TZOFFSETFROM:+0200
TZOFFSETTO:+0100
TZNAME:CET
DTSTART:20251026T010000
END:STANDARD
BEGIN:DAYLIGHT
TZOFFSETFROM:+0100
TZOFFSETTO:+0200
TZNAME:CEST
DTSTART:20260329T010000
END:DAYLIGHT
BEGIN:STANDARD
TZOFFSETFROM:+0200
TZOFFSETTO:+0100
TZNAME:CET
DTSTART:20261025T010000
END:STANDARD
BEGIN:DAYLIGHT
TZOFFSETFROM:+0100
TZOFFSETTO:+0200
TZNAME:CEST
DTSTART:20270328T010000
END:DAYLIGHT
BEGIN:STANDARD
TZOFFSETFROM:+0200
TZOFFSETTO:+0100
TZNAME:CET
DTSTART:20271031T010000
END:STANDARD
END:VTIMEZONE
BEGIN:VEVENT
DTSTART;TZID=Europe/Berlin:20260424T200000
DTEND;TZID=Europe/Berlin:20260424T230000
DTSTAMP:20260421T121145
CREATED:20260309T132347Z
LAST-MODIFIED:20260309T132347Z
UID:6953-1777060800-1777071600@schuetzenheim-duennwald.de
SUMMARY:Mitsing - Konzert
DESCRIPTION:MGG sind wieder bei uns zu Gast und wie immer ist der Eintritt frei\, nur der „Hut geht rund“. \nHier kommt jeder auf seine Kosten. Die\, die nur Musik genießen wollen genau so\, wie die\, die kräftig mitsingen wollen. \n 
URL:https://schuetzenheim-duennwald.de/termin/mitsing-konzert/
LOCATION:Gaststätte Schützenheim\, Dünnwalder Mauspfad 436\, Köln\, NRW\, 51069\, Deutschland
ATTACH;FMTTYPE=image/jpeg:https://schuetzenheim-duennwald.de/wp-content/uploads/2026/03/MGG-Flyer-A6-7-Sprachen-Schuetzenheim-04_2026.jpeg
END:VEVENT
BEGIN:VEVENT
DTSTART;TZID=Europe/Berlin:20260430T193000
DTEND;TZID=Europe/Berlin:20260501T011100
DTSTAMP:20260421T121145
CREATED:20260129T133155Z
LAST-MODIFIED:20260222T130325Z
UID:6901-1777577400-1777597860@schuetzenheim-duennwald.de
SUMMARY:Tanz in den Mai
DESCRIPTION:Nach dem großen Erfolg im letzten Jahr. Zusammen mit Köhler Light&Sound tanzen wir in den Mai. \nEinlass 18:30 Uhr \nVVK in der Gaststätte Schützenheim und im Reisebüro Fahrentrapp
URL:https://schuetzenheim-duennwald.de/termin/tanz-in-den-mai/
LOCATION:Schützenheim/Josef Barten Halle\, Dünnwalder Mauspfad 436\, Köln\, NRW\, 51069\, Deutschland
ATTACH;FMTTYPE=image/jpeg:https://schuetzenheim-duennwald.de/wp-content/uploads/2026/01/TidM-2026-t-22-e1769693843533.jpg
END:VEVENT
BEGIN:VEVENT
DTSTART;TZID=Europe/Berlin:20260509T200000
DTEND;TZID=Europe/Berlin:20260509T235900
DTSTAMP:20260421T121145
CREATED:20260219T064649Z
LAST-MODIFIED:20260405T104345Z
UID:6942-1778356800-1778371140@schuetzenheim-duennwald.de
SUMMARY:8. Dünnwalder Musiknacht
DESCRIPTION:Do Sinn mir dabei! \nUm 20 Uhr und um 21Uhr spielen bei uns in der Josef-Barten-Halle „Jazzadero“. \nUm 22 Uhr und 23 Uhr freuen wir uns auf die „Schäl Sick Sopranos“. \nWeitere Infos findet Ihr unter: \nDünnwalder-Musiknacht.de
URL:https://schuetzenheim-duennwald.de/termin/duennwalder-musiknacht/
LOCATION:Josef Barten Halle\, Dünnwalder Mauspfad 436\, Köln\, NRW\, 51069\, Deutschland
ATTACH;FMTTYPE=image/jpeg:https://schuetzenheim-duennwald.de/wp-content/uploads/2022/07/Duennwalder-Musiknacht.jpg
END:VEVENT
BEGIN:VEVENT
DTSTART;TZID=Europe/Berlin:20260606T190000
DTEND;TZID=Europe/Berlin:20260606T230000
DTSTAMP:20260421T121145
CREATED:20260130T105412Z
LAST-MODIFIED:20260130T105412Z
UID:6908-1780772400-1780786800@schuetzenheim-duennwald.de
SUMMARY:Schnitzelkonzert
DESCRIPTION:Lecker wat Müffele mit einem Schnitzel eurer Wahl und dabei bestens unterhalten werden\, dass erwartet uns bei einem Abend mit dem „Spetzboov“.
URL:https://schuetzenheim-duennwald.de/termin/schnitzelkonzert/
LOCATION:Gaststätte Schützenheim\, Dünnwalder Mauspfad 436\, Köln\, NRW\, 51069\, Deutschland
ATTACH;FMTTYPE=image/png:https://schuetzenheim-duennwald.de/wp-content/uploads/2026/01/schnitzel-Plakat-Gaststaette-Schuetzenheim-A3-e1769770400905.png
END:VEVENT
BEGIN:VEVENT
DTSTART;TZID=Europe/Berlin:20260814T180000
DTEND;TZID=Europe/Berlin:20260816T180000
DTSTAMP:20260421T121145
CREATED:20260214T170224Z
LAST-MODIFIED:20260214T170358Z
UID:6937-1786730400-1786903200@schuetzenheim-duennwald.de
SUMMARY:Schützenfest 2026
DESCRIPTION:
URL:https://schuetzenheim-duennwald.de/termin/schuetzenfest-2026/
LOCATION:Aussengelände Schützenheim\, Dünnwalder Mauspfad 436\, Köln-Dünnwald\, 51069
ATTACH;FMTTYPE=image/jpeg:https://schuetzenheim-duennwald.de/wp-content/uploads/2022/07/Kugelfang-mit-Voegeln.jpg
END:VEVENT
BEGIN:VEVENT
DTSTART;TZID=Europe/Berlin:20260822T200000
DTEND;TZID=Europe/Berlin:20260823T010000
DTSTAMP:20260421T121145
CREATED:20260214T170918Z
LAST-MODIFIED:20260214T170918Z
UID:6939-1787428800-1787446800@schuetzenheim-duennwald.de
SUMMARY:Krönungsball 2026
DESCRIPTION:
URL:https://schuetzenheim-duennwald.de/termin/kroenungsball-2026/
LOCATION:Josef Barten Halle\, Dünnwalder Mauspfad 436\, Köln\, NRW\, 51069\, Deutschland
ATTACH;FMTTYPE=image/jpeg:https://schuetzenheim-duennwald.de/wp-content/uploads/2020/03/cropped-IMG_3474-scaled-1.jpg
END:VEVENT
END:VCALENDAR